View In:
ArcGIS JavaScript
ArcGIS Online Map Viewer
ArcGIS Earth
ArcGIS Pro
Service Description:
Map Name: Publish
Legend
All Layers and Tables
Dynamic Legend
Dynamic All Layers
Layers:
Description:
Service Item Id: b01f32851ca241c58e3b6fe8f8269829
Copyright Text:
Spatial Reference:
102646
(2230)
Single Fused Map Cache: true
Tile Info:
- Height: 256
- Width: 256
- DPI: 96
-
Levels of Detail: 19
-
Level ID: 0
[ Start Tile, End Tile ]
- Resolution: 977891.7959268745
- Scale: 1.1265336019749634E9
-
Level ID: 1
[ Start Tile, End Tile ]
- Resolution: 488945.89796343725
- Scale: 5.632668009874817E8
-
Level ID: 2
[ Start Tile, End Tile ]
- Resolution: 244472.94898171863
- Scale: 2.8163340049374086E8
-
Level ID: 3
[ Start Tile, End Tile ]
- Resolution: 122236.47449085931
- Scale: 1.4081670024687043E8
-
Level ID: 4
[ Start Tile, End Tile ]
- Resolution: 61118.23724542966
- Scale: 7.040835012343521E7
-
Level ID: 5
[ Start Tile, End Tile ]
- Resolution: 30559.11862271483
- Scale: 3.520417506171761E7
-
Level ID: 6
[ Start Tile, End Tile ]
- Resolution: 15279.559311357414
- Scale: 1.7602087530858804E7
-
Level ID: 7
[ Start Tile, End Tile ]
- Resolution: 7639.779655678707
- Scale: 8801043.765429402
-
Level ID: 8
[ Start Tile, End Tile ]
- Resolution: 3819.8898278393535
- Scale: 4400521.882714701
-
Level ID: 9
[ Start Tile, End Tile ]
- Resolution: 1909.9449139196768
- Scale: 2200260.9413573504
-
Level ID: 10
[ Start Tile, End Tile ]
- Resolution: 954.9724569598384
- Scale: 1100130.4706786752
-
Level ID: 11
[ Start Tile, End Tile ]
- Resolution: 477.4862284799192
- Scale: 550065.2353393376
-
Level ID: 12
[ Start Tile, End Tile ]
- Resolution: 238.7431142399596
- Scale: 275032.6176696688
-
Level ID: 13
[ Start Tile, End Tile ]
- Resolution: 119.3715571199798
- Scale: 137516.3088348344
-
Level ID: 14
[ Start Tile, End Tile ]
- Resolution: 59.6857785599899
- Scale: 68758.1544174172
-
Level ID: 15
[ Start Tile, End Tile ]
- Resolution: 29.84288927999495
- Scale: 34379.0772087086
-
Level ID: 16
[ Start Tile, End Tile ]
- Resolution: 14.921444639997475
- Scale: 17189.5386043543
-
Level ID: 17
[ Start Tile, End Tile ]
- Resolution: 7.460722319998737
- Scale: 8594.76930217715
-
Level ID: 18
[ Start Tile, End Tile ]
- Resolution: 3.7303611599993687
- Scale: 4297.384651088575
- Format: PNG
- Compression Quality: 0.0
- Origin: X: -1.1860848321197328E8
Y: 1.0619283300464664E8
- Spatial Reference: 102646
(2230)
Storage Info:
- Storage Format: esriMapCacheStorageModeCompactV2
- Packet Size: 128
Initial Extent:
XMin: 6272688.051980535
YMin: 2175590.5488516367
XMax: 6289841.0916426
YMax: 2181388.7594416304
Spatial Reference: 102646
(2230)
Full Extent:
XMin: 6178299.193475142
YMin: 2146997.73715581
XMax: 6366168.895818964
YMax: 2266848.687414065
Spatial Reference: 102646
(2230)
Units: esriFeet
Supported Image Format Types: PNG32,PNG24,PNG,JPG,DIB,TIFF,EMF,PS,PDF,GIF,SVG,SVGZ,BMP
Document Info:
Title: C:\1GIS\MiscLayerPublishing\MiscLayerPublishing.aprx
Author:
Comments:
Subject:
Category:
Keywords: CFD
AntialiasingMode: Fast
TextAntialiasingMode: Force
Supports Dynamic Layers: true
MaxRecordCount: 2000
MaxImageHeight: 4096
MaxImageWidth: 4096
Supported Query Formats: JSON, geoJSON, PBF
Supports Query Data Elements: true
Min Scale: 550065.2353393376
Max Scale: 17189.5386043543
Min LOD: 11
Max LOD: 16
Supports Datum Transformation: true
Child Resources:
Info
Dynamic Layer
Supported Operations:
Export Map
Identify
QueryLegends
QueryDomains
Find
Return Updates