{
 "currentVersion": 11.3,
 "cimVersion": "3.3.0",
 "serviceDescription": "",
 "mapName": "Publish",
 "description": "",
 "copyrightText": "",
 "supportsDynamicLayers": true,
 "layers": [
  {
   "id": 0,
   "name": "CFDs",
   "parentLayerId": -1,
   "defaultVisibility": true,
   "subLayerIds": null,
   "minScale": 0,
   "maxScale": 0,
   "type": "Feature Layer",
   "geometryType": "esriGeometryPolygon",
   "supportsDynamicLegends": true
  }
 ],
 "tables": [],
 "spatialReference": {
  "wkid": 102646,
  "latestWkid": 2230,
  "xyTolerance": 0.003280833333333333,
  "zTolerance": 0.001,
  "mTolerance": 0.001,
  "falseX": -118608900,
  "falseY": -91259500,
  "xyUnits": 3048.0060960121928,
  "falseZ": -100000,
  "zUnits": 10000,
  "falseM": -100000,
  "mUnits": 10000
 },
 "singleFusedMapCache": true,
 "tileInfo": {
  "rows": 256,
  "cols": 256,
  "dpi": 96,
  "format": "PNG",
  "compressionQuality": 0,
  "origin": {
   "x": -1.1860848321197328E8,
   "y": 1.0619283300464664E8
  },
  "spatialReference": {
   "wkid": 102646,
   "latestWkid": 2230,
   "xyTolerance": 0.003280833333333333,
   "zTolerance": 0.001,
   "mTolerance": 0.001,
   "falseX": -118608900,
   "falseY": -91259500,
   "xyUnits": 3048.0060960121928,
   "falseZ": -100000,
   "zUnits": 10000,
   "falseM": -100000,
   "mUnits": 10000
  },
  "lods": [
   {
    "level": 0,
    "resolution": 977891.7959268745,
    "scale": 1.1265336019749634E9
   },
   {
    "level": 1,
    "resolution": 488945.89796343725,
    "scale": 5.632668009874817E8
   },
   {
    "level": 2,
    "resolution": 244472.94898171863,
    "scale": 2.8163340049374086E8
   },
   {
    "level": 3,
    "resolution": 122236.47449085931,
    "scale": 1.4081670024687043E8
   },
   {
    "level": 4,
    "resolution": 61118.23724542966,
    "scale": 7.040835012343521E7
   },
   {
    "level": 5,
    "resolution": 30559.11862271483,
    "scale": 3.520417506171761E7
   },
   {
    "level": 6,
    "resolution": 15279.559311357414,
    "scale": 1.7602087530858804E7
   },
   {
    "level": 7,
    "resolution": 7639.779655678707,
    "scale": 8801043.765429402
   },
   {
    "level": 8,
    "resolution": 3819.8898278393535,
    "scale": 4400521.882714701
   },
   {
    "level": 9,
    "resolution": 1909.9449139196768,
    "scale": 2200260.9413573504
   },
   {
    "level": 10,
    "resolution": 954.9724569598384,
    "scale": 1100130.4706786752
   },
   {
    "level": 11,
    "resolution": 477.4862284799192,
    "scale": 550065.2353393376
   },
   {
    "level": 12,
    "resolution": 238.7431142399596,
    "scale": 275032.6176696688
   },
   {
    "level": 13,
    "resolution": 119.3715571199798,
    "scale": 137516.3088348344
   },
   {
    "level": 14,
    "resolution": 59.6857785599899,
    "scale": 68758.1544174172
   },
   {
    "level": 15,
    "resolution": 29.84288927999495,
    "scale": 34379.0772087086
   },
   {
    "level": 16,
    "resolution": 14.921444639997475,
    "scale": 17189.5386043543
   },
   {
    "level": 17,
    "resolution": 7.460722319998737,
    "scale": 8594.76930217715
   },
   {
    "level": 18,
    "resolution": 3.7303611599993687,
    "scale": 4297.384651088575
   }
  ]
 },
 "storageInfo": {
  "storageFormat": "esriMapCacheStorageModeCompactV2",
  "packetSize": 128
 },
 "initialExtent": {
  "xmin": 6272688.051980535,
  "ymin": 2175590.5488516367,
  "xmax": 6289841.0916426,
  "ymax": 2181388.7594416304,
  "spatialReference": {
   "wkid": 102646,
   "latestWkid": 2230,
   "xyTolerance": 0.003280833333333333,
   "zTolerance": 0.001,
   "mTolerance": 0.001,
   "falseX": -118608900,
   "falseY": -91259500,
   "xyUnits": 3048.0060960121928,
   "falseZ": -100000,
   "zUnits": 10000,
   "falseM": -100000,
   "mUnits": 10000
  }
 },
 "fullExtent": {
  "xmin": 6178299.193475142,
  "ymin": 2146997.73715581,
  "xmax": 6366168.895818964,
  "ymax": 2266848.687414065,
  "spatialReference": {
   "wkid": 102646,
   "latestWkid": 2230,
   "xyTolerance": 0.003280833333333333,
   "zTolerance": 0.001,
   "mTolerance": 0.001,
   "falseX": -118608900,
   "falseY": -91259500,
   "xyUnits": 3048.0060960121928,
   "falseZ": -100000,
   "zUnits": 10000,
   "falseM": -100000,
   "mUnits": 10000
  }
 },
 "datesInUnknownTimezone": false,
 "minScale": 550065.2353393376,
 "maxScale": 17189.5386043543,
 "minLOD": 11,
 "maxLOD": 16,
 "units": "esriFeet",
 "supportedImageFormatTypes": "PNG32,PNG24,PNG,JPG,DIB,TIFF,EMF,PS,PDF,GIF,SVG,SVGZ,BMP",
 "documentInfo": {
  "Title": "C:\\1GIS\\MiscLayerPublishing\\MiscLayerPublishing.aprx",
  "Author": "",
  "Comments": "",
  "Subject": "",
  "Category": "",
  "Version": "2.9.0",
  "AntialiasingMode": "Fast",
  "TextAntialiasingMode": "Force",
  "Keywords": "CFD"
 },
 "supportsQueryDomains": true,
 "capabilities": "Query,Map,Data",
 "supportedQueryFormats": "JSON, geoJSON, PBF",
 "exportTilesAllowed": false,
 "referenceScale": 0.0,
 "datumTransformations": [
  {
   "geoTransforms": [
    {
     "wkid": 108190,
     "latestWkid": 108190,
     "transformForward": true,
     "name": "WGS_1984_(ITRF00)_To_NAD_1983"
    }
   ]
  },
  {
   "geoTransforms": [
    {
     "wkid": 108190,
     "latestWkid": 108190,
     "transformForward": false,
     "name": "WGS_1984_(ITRF00)_To_NAD_1983"
    }
   ]
  }
 ],
 "supportsDatumTransformation": true,
 "floorAwareMapProperties": {
  "defaultFloorFilterSettings": {
   "isEnabled": true
  }
 },
 "archivingInfo": {
  "supportsHistoricMoment": false
 },
 "supportsClipping": true,
 "supportsSpatialFilter": true,
 "supportsTimeRelation": true,
 "supportsQueryDataElements": true,
 "mapUnits": {
  "uwkid": 9003
 },
 "maxRecordCount": 2000,
 "maxImageHeight": 4096,
 "maxImageWidth": 4096,
 "supportedExtensions": "",
 "serviceItemId": "b01f32851ca241c58e3b6fe8f8269829"
}
